View In:
ArcGIS JavaScript
ArcGIS Online Map Viewer
ArcGIS Earth
Service Description: SID/Lucas_NAD83_2025_rgb_100x_sid
Name: SID/Lucas_NAD83_2025_rgb_100x_sid
Description:
Single Fused Map Cache: false
Extent:
XMin: 1585000.0
YMin: 635000.0
XMax: 1810000.0
YMax: 760000.0
Spatial Reference: 102722
(3734)
LatestVCSWkid(0)
Initial Extent:
XMin: 1585000.0
YMin: 635000.0
XMax: 1810000.0
YMax: 760000.0
Spatial Reference: 102722
(3734)
LatestVCSWkid(0)
Full Extent:
XMin: 1585000.0
YMin: 635000.0
XMax: 1810000.0
YMax: 760000.0
Spatial Reference: 102722
(3734)
LatestVCSWkid(0)
Pixel Size X: 0.5
Pixel Size Y: 0.5
Band Count: 3
Pixel Type: U8
RasterFunction Infos: {"rasterFunctionInfos": [{
"name": "None",
"description": "",
"help": ""
}]}
Mensuration Capabilities: Basic
Inspection Capabilities:
Has Histograms: true
Has Colormap: false
Has Multi Dimensions : false
Rendering Rule:
Min Scale: 0
Max Scale: 0
Copyright Text:
Service Data Type: esriImageServiceDataTypeRGB
Min Values: 0, 1, 0
Max Values: 255, 255, 255
Mean Values: 183.25909090909, 181.5931085044, 177.92082111437
Standard Deviation Values: 82.584220928623, 84.375791405955, 88.482565543676
Object ID Field:
Fields:
None
Default Mosaic Method: Center
Allowed Mosaic Methods:
SortField:
SortValue: null
Mosaic Operator: First
Default Compression Quality: 75
Default Resampling Method: Bilinear
Max Record Count: null
Max Image Height: 4100
Max Image Width: 15000
Max Download Image Count: null
Max Mosaic Image Count: null
Allow Raster Function: true
Allow Copy: true
Allow Analysis: true
Allow Compute TiePoints: false
Supports Statistics: false
Supports Advanced Queries: false
Use StandardizedQueries: true
Raster Type Infos:
Name: Raster Dataset
Description: Supports all ArcGIS Raster Datasets
Help:
Has Raster Attribute Table: false
Edit Fields Info: null
Ownership Based AccessControl For Rasters: null
Child Resources:
Info
Histograms
Statistics
Key Properties
Legend
Raster Function Infos
Supported Operations:
Export Image
Identify
Measure
Compute Histograms
Compute Statistics Histograms
Get Samples
Compute Class Statistics
Query Boundary
Compute Pixel Location
Compute Angles
Validate
Project